BEGIN:VCALENDAR
VERSION:2.0
PRODID:-//GalatasarayUniversity//EventCalendar//EN
BEGIN:VEVENT
SUMMARY:Doğumunun 220. yılında Şeyhü'l-vüzerâ Mehmed Emin Namık Paşa (1804-1892) Sempozyumu
DESCRIPTION:
DTSTART:20240223T110000Z
DTEND:20240223T150000Z
LOCATION:Aydın Doğan Oditoryumu
END:VEVENT
END:VCALENDAR
