BEGIN:VCALENDAR
VERSION:2.0
PRODID:-//GalatasarayUniversity//EventCalendar//EN
BEGIN:VEVENT
SUMMARY:Artificial Intelligence and Civil Society
DESCRIPTION:
DTSTART:20260323T123000Z
DTEND:20260323T140000Z
LOCATION:Aydın Doğan Auditorium
END:VEVENT
END:VCALENDAR
