BEGIN:VCALENDAR
VERSION:2.0
PRODID:-//GalatasarayUniversity//EventCalendar//EN
BEGIN:VEVENT
SUMMARY:GSÜ-TAM Seminerleri: Le Soft Power religieux de la Turquie en Afrique de l'ouest : Pratiques et contraintes en terrain musulman de Cote d'lvoire
DESCRIPTION:
DTSTART:20241119T140000Z
DTEND:20241119T160000Z
LOCATION:Saray Binası, C316
END:VEVENT
END:VCALENDAR
