BEGIN:VCALENDAR
VERSION:2.0
PRODID:-//GalatasarayUniversity//EventCalendar//EN
BEGIN:VEVENT
SUMMARY:Stratejik İletişim  Yönetimi Konferansları (GSÜSTRAT) - VIII “Belirsizlik Çağında  Lider İletişimi” 
DESCRIPTION:
DTSTART:20260417T070000Z
DTEND:20260417T143000Z
LOCATION:C316 Münevver Soylu Salonu
END:VEVENT
END:VCALENDAR
