BEGIN:VCALENDAR
VERSION:2.0
PRODID:-//GalatasarayUniversity//EventCalendar//EN
BEGIN:VEVENT
SUMMARY:Yapay Zeka ve Hukuk Sempozyumu
DESCRIPTION:
DTSTART:20221010T070000Z
DTEND:20221010T124000Z
LOCATION:Galatasaray Üniversitesi
END:VEVENT
END:VCALENDAR
