BEGIN:VCALENDAR
VERSION:2.0
PRODID:-//GalatasarayUniversity//EventCalendar//EN
BEGIN:VEVENT
SUMMARY:Selective Conditional İnference For Panel Data With Latent Group Structures
DESCRIPTION:
DTSTART:20250424T090000Z
DTEND:20250424T110000Z
LOCATION:At C316
END:VEVENT
END:VCALENDAR
