BEGIN:VCALENDAR
VERSION:2.0
PRODID:-//GalatasarayUniversity//EventCalendar//EN
BEGIN:VEVENT
SUMMARY:Toplumsal Yapı Tartışmaları: Nüfusta, Ailede ve İş Yaşamında Kadın
DESCRIPTION:
DTSTART:20241204T080000Z
DTEND:20241204T100000Z
LOCATION:Saray Binası, C316
END:VEVENT
END:VCALENDAR
