BEGIN:VCALENDAR
VERSION:2.0
PRODID:-//GalatasarayUniversity//EventCalendar//EN
BEGIN:VEVENT
SUMMARY:Bir Avrokrat Gözünden Avrupa Birliği'nde Kariyer
DESCRIPTION:
DTSTART:20240521T150000Z
DTEND:20240521T170000Z
LOCATION:Zoom
END:VEVENT
END:VCALENDAR
